BEGIN:VCALENDAR
VERSION:2.0
PRODID:Imitheme.com
BEGIN:VEVENT
UID:20260425T141034-1500784851
DTSTAMP:20260425T141034
DTSTART:20260425T141034Z
DTEND:20260425T141034Z
SUMMARY:Screening of the Award-Winning Movie “The Cut“ at OIA Center.
LOCATION:
DESCRIPTION: <iframe src="https://www.youtube.com/embed/Vnw4fbAo-HE" width="854" height="480" frameborder="0" allowfullscreen="allowfullscreen"></iframe>
<div id="watch-headline-title">
<h4 class="watch-title-container" style="text-align: center;"><span id="eow-title" class="watch-title" dir="ltr" title="The Cut 2014 Official Film Trailer in English Armenian Genocide">The Cut 2014 Official Film Trailer in English Armenian Genocide</span></h4>
</div>
END:VEVENT
END:VCALENDAR
